BEGIN:VCALENDAR
VERSION:2.0
PRODID:-//Albany Tennis Park - ECPv5.3.1.1//NONSGML v1.0//EN
CALSCALE:GREGORIAN
METHOD:PUBLISH
X-WR-CALNAME:Albany Tennis Park
X-ORIGINAL-URL:https://albanytennispark.co.nz
X-WR-CALDESC:Events for Albany Tennis Park
BEGIN:VTIMEZONE
TZID:Pacific/Auckland
BEGIN:STANDARD
TZOFFSETFROM:+1300
TZOFFSETTO:+1200
TZNAME:NZST
DTSTART:20210403T140000
END:STANDARD
BEGIN:DAYLIGHT
TZOFFSETFROM:+1200
TZOFFSETTO:+1300
TZNAME:NZDT
DTSTART:20210925T140000
END:DAYLIGHT
END:VTIMEZONE
BEGIN:VEVENT
DTSTART;VALUE=DATE:20210124
DTEND;VALUE=DATE:20210128
DTSTAMP:20210122T071948
CREATED:20201116T211831Z
LAST-MODIFIED:20201116T211859Z
UID:301-1611446400-1611791999@albanytennispark.co.nz
SUMMARY:2021 Albany Toyota Northern Summer Championships
DESCRIPTION:
URL:https://albanytennispark.co.nz/event/2021-albany-toyota-northern-summer-championships/
LOCATION:Albany Tennis Park\, 321 Oteha Valley Road\, Albany\, Auckland\, 0632\, New Zealand
CATEGORIES:Tournament
ORGANIZER;CN="Albany%20Tennis%20Park%20-%20Sarah%20Smith":MAILTO:admin@tennisnorthern.co.nz
END:VEVENT
END:VCALENDAR